BEGIN:VCALENDAR
VERSION:2.0
PRODID:-//wp-events-plugin.com//7.2.3.1//EN
TZID:Europe/Paris
X-WR-TIMEZONE:Europe/Paris
BEGIN:VEVENT
UID:5957@agenda24.fr
DTSTART;TZID=Europe/Paris:20250413T090000
DTEND;TZID=Europe/Paris:20250413T170000
DTSTAMP:20250326T140649Z
URL:https://agenda24.fr/evenements/18eme-vide-armoire-printemps-ete-et-vid
 e-grenier/
SUMMARY:18ème vide-armoire printemps été et vide grenier
DESCRIPTION:L'Amicale Laïque d'Issigeac organise un vide grenier réservé
  aux particuliers. \nSous le chapiteau\, vous retrouverez vêtements\, cha
 ussures\, linge de maison et quelques accessoires \; à l’extérieur\, v
 ous retrouverez de tout ! Venez nombreux !
CATEGORIES:Marché / Foire / Brocante
LOCATION:Parking de la Banège\, Place de la Baleine\, Issigeac\, France
GEO:44.7310928;0.60508858
X-APPLE-STRUCTURED-LOCATION;VALUE=URI;X-ADDRESS=Place de la Baleine\, Issig
 eac\, France;X-APPLE-RADIUS=100;X-TITLE=Parking de la Banège:geo:44.73109
 28,0.60508858
END:VEVENT
BEGIN:VTIMEZONE
TZID:Europe/Paris
X-LIC-LOCATION:Europe/Paris
BEGIN:DAYLIGHT
DTSTART:20250330T030000
TZOFFSETFROM:+0100
TZOFFSETTO:+0200
TZNAME:CEST
END:DAYLIGHT
END:VTIMEZONE
END:VCALENDAR