BEGIN:VCALENDAR
VERSION:2.0
PRODID:-//wp-events-plugin.com//7.2.3.1//EN
TZID:Europe/Paris
X-WR-TIMEZONE:Europe/Paris
BEGIN:VEVENT
UID:8357@agenda24.fr
DTSTART;TZID=Europe/Paris:20250912T173000
DTEND;TZID=Europe/Paris:20250912T193000
DTSTAMP:20250910T221314Z
URL:https://agenda24.fr/evenements/10s25-oo-bloque-tout-ag-de-brantome/
SUMMARY:10S25 - On bloque TOUT - AG de Brantôme
DESCRIPTION:Retrouvons nous en AG à Brantôme vendredi a 17h30
CATEGORIES:Militant
LOCATION:Rond point de la truffe 24310 Brantome\, rond point de la truffe\,
  brantome\, 24310\, France
X-APPLE-STRUCTURED-LOCATION;VALUE=URI;X-ADDRESS=rond point de la truffe\, b
 rantome\, 24310\, France;X-APPLE-RADIUS=100;X-TITLE=Rond point de la truff
 e 24310 Brantome:geo:0,0
END:VEVENT
BEGIN:VTIMEZONE
TZID:Europe/Paris
X-LIC-LOCATION:Europe/Paris
BEGIN:DAYLIGHT
DTSTART:20250330T030000
TZOFFSETFROM:+0100
TZOFFSETTO:+0200
TZNAME:CEST
END:DAYLIGHT
END:VTIMEZONE
END:VCALENDAR