BEGIN:VCALENDAR
VERSION:2.0
PRODID:-//wp-events-plugin.com//7.2.3.1//EN
TZID:Europe/Paris
X-WR-TIMEZONE:Europe/Paris
BEGIN:VEVENT
UID:8361@agenda24.fr
DTSTART;TZID=Europe/Paris:20250917T120000
DTEND;TZID=Europe/Paris:20250917T150000
DTSTAMP:20250915T161640Z
URL:https://agenda24.fr/evenements/10s25-on-bloque-tout-retrouvons-nous-a-
 perigueux-2/
SUMMARY:10S25 - On bloque TOUT - Retrouvons-nous à Périgueux !
DESCRIPTION:🗓 12h - Place Tourny \n\nSoupe pop/paysanne.\n\nRetrouvons-
 nous pour nous rencontrer\, construire ensemble\, s'organiser...\n\nInitia
 tion bal trad sauvage en préparation de la manif du 18.\n\n&nbsp\;\n\n&nb
 sp\;
CATEGORIES:Militant
LOCATION:Place Tourny\, Place Tourny \, Périgueux\, 24000\, France
X-APPLE-STRUCTURED-LOCATION;VALUE=URI;X-ADDRESS=Place Tourny \, Périgueux
 \, 24000\, France;X-APPLE-RADIUS=100;X-TITLE=Place Tourny:geo:0,0
END:VEVENT
BEGIN:VTIMEZONE
TZID:Europe/Paris
X-LIC-LOCATION:Europe/Paris
BEGIN:DAYLIGHT
DTSTART:20250330T030000
TZOFFSETFROM:+0100
TZOFFSETTO:+0200
TZNAME:CEST
END:DAYLIGHT
END:VTIMEZONE
END:VCALENDAR