BEGIN:VCALENDAR
VERSION:2.0
PRODID:-//wp-events-plugin.com//7.2.3.1//EN
TZID:Europe/Paris
X-WR-TIMEZONE:Europe/Paris
BEGIN:VEVENT
UID:8344@agenda24.fr
DTSTART;TZID=Europe/Paris:20250910T060000
DTEND;TZID=Europe/Paris:20250910T235900
DTSTAMP:20250909T123859Z
URL:https://agenda24.fr/evenements/10s25-on-bloque-brantome/
SUMMARY:10S25 on bloque Brantôme
DESCRIPTION:Rendez-vous dès 6 et toute la journée au rond point de la Tru
 ffe
CATEGORIES:Militant
LOCATION:Rond point de la truffe Brantôme\, Route de Nontron\, BRANTOME\, 
 24\, France
X-APPLE-STRUCTURED-LOCATION;VALUE=URI;X-ADDRESS=Route de Nontron\, BRANTOME
 \, 24\, France;X-APPLE-RADIUS=100;X-TITLE=Rond point de la truffe Brantôm
 e:geo:0,0
END:VEVENT
BEGIN:VTIMEZONE
TZID:Europe/Paris
X-LIC-LOCATION:Europe/Paris
BEGIN:DAYLIGHT
DTSTART:20250330T030000
TZOFFSETFROM:+0100
TZOFFSETTO:+0200
TZNAME:CEST
END:DAYLIGHT
END:VTIMEZONE
END:VCALENDAR